BEGIN:VCALENDAR
VERSION:2.0
PRODID:-//Spoken Garden - ECPv6.15.20//NONSGML v1.0//EN
CALSCALE:GREGORIAN
METHOD:PUBLISH
X-ORIGINAL-URL:https://www.spokengarden.com
X-WR-CALDESC:Events for Spoken Garden
REFRESH-INTERVAL;VALUE=DURATION:PT1H
X-Robots-Tag:noindex
X-PUBLISHED-TTL:PT1H
BEGIN:VTIMEZONE
TZID:America/Los_Angeles
BEGIN:DAYLIGHT
TZOFFSETFROM:-0800
TZOFFSETTO:-0700
TZNAME:PDT
DTSTART:20220313T100000
END:DAYLIGHT
BEGIN:STANDARD
TZOFFSETFROM:-0700
TZOFFSETTO:-0800
TZNAME:PST
DTSTART:20221106T090000
END:STANDARD
BEGIN:DAYLIGHT
TZOFFSETFROM:-0800
TZOFFSETTO:-0700
TZNAME:PDT
DTSTART:20230312T100000
END:DAYLIGHT
BEGIN:STANDARD
TZOFFSETFROM:-0700
TZOFFSETTO:-0800
TZNAME:PST
DTSTART:20231105T090000
END:STANDARD
BEGIN:DAYLIGHT
TZOFFSETFROM:-0800
TZOFFSETTO:-0700
TZNAME:PDT
DTSTART:20240310T100000
END:DAYLIGHT
BEGIN:STANDARD
TZOFFSETFROM:-0700
TZOFFSETTO:-0800
TZNAME:PST
DTSTART:20241103T090000
END:STANDARD
END:VTIMEZONE
BEGIN:VEVENT
DTSTART;TZID=America/Los_Angeles:20230621T100000
DTEND;TZID=America/Los_Angeles:20230621T110000
DTSTAMP:20260423T030507
CREATED:20230621T151845Z
LAST-MODIFIED:20230621T151845Z
UID:21496-1687341600-1687345200@www.spokengarden.com
SUMMARY:Instagram LIVE with Garden Inventors Jason and Morgan of C-Bites.
DESCRIPTION:Join us LIVE on IG to hear our interview with garden product inventor and innovators Jason and Morgan! They invented the popular garden staking C-Bites\, available on their Shopify Store. Tune in to hear all about how Jason started and invented this fun and new unique product and how he and Morgan are helping gardeners everywhere rethink how they stake their plants! \nYou can find out more about C-Bites and Jason and Morgan on IG @cbite_clips . “See” you at 10am\, Pacific! 😉😀
URL:https://www.spokengarden.com/event/instagram-live-with-garden-inventors-jason-and-morgan-of-c-bites/
LOCATION:Instagram
END:VEVENT
BEGIN:VEVENT
DTSTART;TZID=America/Los_Angeles:20230628T100000
DTEND;TZID=America/Los_Angeles:20230628T110000
DTSTAMP:20260423T030507
CREATED:20230626T192120Z
LAST-MODIFIED:20230626T192704Z
UID:21498-1687946400-1687950000@www.spokengarden.com
SUMMARY:Instagram LIVE with Urban Gardening Expert Geoffrey Johnson of D.O.P.E.
DESCRIPTION:Join us LIVE on IG to hear our interview with urban gardening expert and entrepreneur Geoffrey Johnson. He is the founder of D.O.P.E. Depend On Planet Earth\, helping urban gardeners grow and thrive. Tune in to hear all about how Geoffrey got started and continues to inspire urban gardeners everywhere! \nYou can find out more about D.O.P.E. and Geoffrey on IG @DependOnPlanetEarth . “See” you at 10am\, Pacific! 😉😀
URL:https://www.spokengarden.com/event/instagram-live-with-urban-gardening-expert-geoffery-johnson-of-d-o-p-e/
LOCATION:Instagram
END:VEVENT
END:VCALENDAR