BEGIN:VCALENDAR
VERSION:2.0
PRODID:-//Spoken Garden - ECPv6.15.20//NONSGML v1.0//EN
CALSCALE:GREGORIAN
METHOD:PUBLISH
X-ORIGINAL-URL:https://www.spokengarden.com
X-WR-CALDESC:Events for Spoken Garden
REFRESH-INTERVAL;VALUE=DURATION:PT1H
X-Robots-Tag:noindex
X-PUBLISHED-TTL:PT1H
BEGIN:VTIMEZONE
TZID:America/Los_Angeles
BEGIN:DAYLIGHT
TZOFFSETFROM:-0800
TZOFFSETTO:-0700
TZNAME:PDT
DTSTART:20220313T100000
END:DAYLIGHT
BEGIN:STANDARD
TZOFFSETFROM:-0700
TZOFFSETTO:-0800
TZNAME:PST
DTSTART:20221106T090000
END:STANDARD
BEGIN:DAYLIGHT
TZOFFSETFROM:-0800
TZOFFSETTO:-0700
TZNAME:PDT
DTSTART:20230312T100000
END:DAYLIGHT
BEGIN:STANDARD
TZOFFSETFROM:-0700
TZOFFSETTO:-0800
TZNAME:PST
DTSTART:20231105T090000
END:STANDARD
BEGIN:DAYLIGHT
TZOFFSETFROM:-0800
TZOFFSETTO:-0700
TZNAME:PDT
DTSTART:20240310T100000
END:DAYLIGHT
BEGIN:STANDARD
TZOFFSETFROM:-0700
TZOFFSETTO:-0800
TZNAME:PST
DTSTART:20241103T090000
END:STANDARD
END:VTIMEZONE
BEGIN:VEVENT
DTSTART;TZID=America/Los_Angeles:20230503T100000
DTEND;TZID=America/Los_Angeles:20230503T110000
DTSTAMP:20260423T044125
CREATED:20230424T211517Z
LAST-MODIFIED:20230424T234537Z
UID:21410-1683108000-1683111600@www.spokengarden.com
SUMMARY:Instagram LIVE with Garden Innovator Darryl Cheng – From House Plant Journal
DESCRIPTION:Join us LIVE on IG to hear our interview with garden inventor/innovator Darryl Cheng! He is on Instagram as The Houseplant Journal and takes an engineers approach to plant care. He is the inventor of the LTH Light Meter and the the author of the book The New Plant Parent. Tune in to hear all about Daryl’s journey and how he helps people grow happy indoor plants! \nYou can find out more about From Seed to Spoon on IG @houseplantjournal . “See” you at 10am\, Pacific! 😉😀
URL:https://www.spokengarden.com/event/21410/
END:VEVENT
BEGIN:VEVENT
DTSTART;TZID=America/Los_Angeles:20230510T100000
DTEND;TZID=America/Los_Angeles:20230510T110000
DTSTAMP:20260423T044125
CREATED:20230419T211629Z
LAST-MODIFIED:20230419T212716Z
UID:21400-1683712800-1683716400@www.spokengarden.com
SUMMARY:Instagram LIVE with Garden Expert Stephanie Rose - From Garden Therapy
DESCRIPTION:Join us LIVE on IG to hear our interview with garden expert Stephanie Rose! She is the founder of Garden Therapy and the author of many wonderful books\, including her newest book called The Regenerative Garden. Tune in to hear all about her journey and how she helps people live a better life through plants! \nYou can find out more about From Seed to Spoon on IG @garden_therapy . “See” you at 10am\, Pacific! 😉😀
URL:https://www.spokengarden.com/event/instagram-live-with-garden-expert-stephanie-rose-from-garden-therapy/
END:VEVENT
BEGIN:VEVENT
DTSTART;TZID=America/Los_Angeles:20230517T100000
DTEND;TZID=America/Los_Angeles:20230517T110000
DTSTAMP:20260423T044125
CREATED:20230221T224353Z
LAST-MODIFIED:20230419T210902Z
UID:20901-1684317600-1684321200@www.spokengarden.com
SUMMARY:Instagram LIVE with Garden Inventors Carrie and Dale Spoonemore - From Seed to Spoon\, the App
DESCRIPTION:Join us LIVE on IG to hear our interview with garden inventors Carrie and Dale Spoonemore! They invented the popular garden app “From Seed To Spoon”\, available on both the Apple-Store and Google-Play. Tune in to hear all about they came up with and developed their amazing and fun app\, and how you can  use their app in your garden! \nYou can find out more about From Seed to Spoon on IG @fromseedtospoon . “See” you at 10am\, Pacific! 😉😀
URL:https://www.spokengarden.com/event/instagram-live-with-garden-innovators-to-be-determined/
LOCATION:Instagram
END:VEVENT
END:VCALENDAR