BEGIN:VCALENDAR
VERSION:2.0
PRODID:-//Spoken Garden - ECPv6.15.20//NONSGML v1.0//EN
CALSCALE:GREGORIAN
METHOD:PUBLISH
X-WR-CALNAME:Spoken Garden
X-ORIGINAL-URL:https://www.spokengarden.com
X-WR-CALDESC:Events for Spoken Garden
REFRESH-INTERVAL;VALUE=DURATION:PT1H
X-Robots-Tag:noindex
X-PUBLISHED-TTL:PT1H
BEGIN:VTIMEZONE
TZID:America/Los_Angeles
BEGIN:DAYLIGHT
TZOFFSETFROM:-0800
TZOFFSETTO:-0700
TZNAME:PDT
DTSTART:20220313T100000
END:DAYLIGHT
BEGIN:STANDARD
TZOFFSETFROM:-0700
TZOFFSETTO:-0800
TZNAME:PST
DTSTART:20221106T090000
END:STANDARD
BEGIN:DAYLIGHT
TZOFFSETFROM:-0800
TZOFFSETTO:-0700
TZNAME:PDT
DTSTART:20230312T100000
END:DAYLIGHT
BEGIN:STANDARD
TZOFFSETFROM:-0700
TZOFFSETTO:-0800
TZNAME:PST
DTSTART:20231105T090000
END:STANDARD
BEGIN:DAYLIGHT
TZOFFSETFROM:-0800
TZOFFSETTO:-0700
TZNAME:PDT
DTSTART:20240310T100000
END:DAYLIGHT
BEGIN:STANDARD
TZOFFSETFROM:-0700
TZOFFSETTO:-0800
TZNAME:PST
DTSTART:20241103T090000
END:STANDARD
END:VTIMEZONE
BEGIN:VEVENT
DTSTART;TZID=America/Los_Angeles:20230419T100000
DTEND;TZID=America/Los_Angeles:20230419T110000
DTSTAMP:20260423T062226
CREATED:20230221T224219Z
LAST-MODIFIED:20230424T234924Z
UID:20899-1681898400-1681902000@www.spokengarden.com
SUMMARY:Instagram LIVE with Vegetable Garden Expert and Author Susan Mulvihill
DESCRIPTION:Join us LIVE on IG to meet Susan Mulvihill of SusansInTheGarden.com\, vegetable garden expert\, author\, blogger\, and more! Tune in to hear all about Susan’s new book\, the Vegetable Garden Problem Solver Handbook\, easy vegetable mistakes to avoid\, fun ways to grow vegetables\, how to get your vegetable garden started this spring! \nYou can find out more about Susan on IG @susansinthegarden. “See” you at 10am\, Pacific! 😉😀
URL:https://www.spokengarden.com/event/instagram-live-with-garden-expert-to-be-determined/
LOCATION:Instagram
ATTACH;FMTTYPE=image/png:https://www.spokengarden.com/wp-content/uploads/2023/02/Screenshot-2023-04-18-104618.png
END:VEVENT
BEGIN:VEVENT
DTSTART;TZID=America/Los_Angeles:20230426T090000
DTEND;TZID=America/Los_Angeles:20230426T100000
DTSTAMP:20260423T062226
CREATED:20230423T160007Z
LAST-MODIFIED:20230424T234741Z
UID:20933-1682499600-1682503200@www.spokengarden.com
SUMMARY:Instagram LIVE with Chris Sabbarese of Corona Tools\, Garden Product Innovators
DESCRIPTION:Join us LIVE on IG to meet Chris Sabbarese\, the President of INfusion Management that has taken over managing and running Garden Communicators International! Tune in to find out how Chris and his wife\, Virginia\, have starting changing GCI and all the wonderful new things happening for professional garden writers and garden content creators! \nYou can find out more about Chris and Corona Tools\, USA on IG @csabbar_ims and @coronatools. “See” you at 9am\, Pacific! 😉😀
URL:https://www.spokengarden.com/event/instagram-live-with-chris-sabbarese-of-corona-tools-garden-product-innovators/
LOCATION:Instagram
ATTACH;FMTTYPE=image/jpeg:https://www.spokengarden.com/wp-content/uploads/2023/04/CS-Bio-pic_HI-e1682380051369.jpg
END:VEVENT
END:VCALENDAR