BEGIN:VCALENDAR
VERSION:2.0
PRODID:-//Spoken Garden - ECPv6.15.20//NONSGML v1.0//EN
CALSCALE:GREGORIAN
METHOD:PUBLISH
X-WR-CALNAME:Spoken Garden
X-ORIGINAL-URL:https://www.spokengarden.com
X-WR-CALDESC:Events for Spoken Garden
REFRESH-INTERVAL;VALUE=DURATION:PT1H
X-Robots-Tag:noindex
X-PUBLISHED-TTL:PT1H
BEGIN:VTIMEZONE
TZID:America/Los_Angeles
BEGIN:DAYLIGHT
TZOFFSETFROM:-0800
TZOFFSETTO:-0700
TZNAME:PDT
DTSTART:20220313T100000
END:DAYLIGHT
BEGIN:STANDARD
TZOFFSETFROM:-0700
TZOFFSETTO:-0800
TZNAME:PST
DTSTART:20221106T090000
END:STANDARD
BEGIN:DAYLIGHT
TZOFFSETFROM:-0800
TZOFFSETTO:-0700
TZNAME:PDT
DTSTART:20230312T100000
END:DAYLIGHT
BEGIN:STANDARD
TZOFFSETFROM:-0700
TZOFFSETTO:-0800
TZNAME:PST
DTSTART:20231105T090000
END:STANDARD
BEGIN:DAYLIGHT
TZOFFSETFROM:-0800
TZOFFSETTO:-0700
TZNAME:PDT
DTSTART:20240310T100000
END:DAYLIGHT
BEGIN:STANDARD
TZOFFSETFROM:-0700
TZOFFSETTO:-0800
TZNAME:PST
DTSTART:20241103T090000
END:STANDARD
END:VTIMEZONE
BEGIN:VEVENT
DTSTART;TZID=America/Los_Angeles:20230302T160000
DTEND;TZID=America/Los_Angeles:20230302T163000
DTSTAMP:20260423T075116
CREATED:20230221T172706Z
LAST-MODIFIED:20230221T173728Z
UID:20879-1677772800-1677774600@www.spokengarden.com
SUMMARY:Instagram Live with Author Teresa Woodard - American Roots
DESCRIPTION:Join us LIVE on Instagram for this 10+ minute interview with Teresa Woodard\, garden writer and content creator AND co-author of the book American Roots. Check out her book on Amazon! Hear about her new book\, why she loves gardening\, and much more! You can follow Teresa @teresapwoodard on IG to also learn more about her. 😉👍😀👍 \nThis is a quick interview to showcase Teresa and to promote the Authors Talk Gardening March 23rd event (4pm Pacific/6pm Central/7pm East)\, hosted jointly by National Garden Bureau and Garden Communicators International. \nYou can sign up for the March 23rd event here and make sure to stay tuned for three more author interviews on IG leading up to the main Authors Talk Gardening event!
URL:https://www.spokengarden.com/event/instagram-live-with-author-teresa-woodard-american-roots/
LOCATION:Instagram
END:VEVENT
BEGIN:VEVENT
DTSTART;TZID=America/Los_Angeles:20230303T140000
DTEND;TZID=America/Los_Angeles:20230303T143000
DTSTAMP:20260423T075116
CREATED:20230222T212045Z
LAST-MODIFIED:20230222T212305Z
UID:20923-1677852000-1677853800@www.spokengarden.com
SUMMARY:Great Grow Along Interview on IG
DESCRIPTION:Join us as we are interviewed on Instagram for our presentation at the Great Grow Along. Our presentation this year (3 years running we have been a part of the Great Grow Along) will be on Flowering Bulb Basics in the GGA’s “Fundamentals” Series. Tune in and hear all about it!
URL:https://www.spokengarden.com/event/great-grow-along-interview-on-ig/
LOCATION:Instagram
END:VEVENT
BEGIN:VEVENT
DTSTART;TZID=America/Los_Angeles:20230306T100000
DTEND;TZID=America/Los_Angeles:20230306T110000
DTSTAMP:20260423T075116
CREATED:20230222T213035Z
LAST-MODIFIED:20230424T235824Z
UID:20928-1678096800-1678100400@www.spokengarden.com
SUMMARY:Instagram LIVE with Garden Innovator LaManda Joy - The Great Grow Along Festival and More!
DESCRIPTION:Join us LIVE on IG to meet LaManda Joy\, Co-Founder and Organizer of The Great Grow Along Festival. Hear how she started her gardening journey and how it lead her to be the garden maven she is today! \nYou can find LaManda and more on the Great Grow Along Festival on IG @greatgrowalongevent. “See” you at (Time TBD)\, Pacific! 😉😀
URL:https://www.spokengarden.com/event/instagram-live-with-garden-innovator-lamanda-joy-the-great-grow-along-festival-and-more/
LOCATION:Instagram
ATTACH;FMTTYPE=image/jpeg:https://www.spokengarden.com/wp-content/uploads/2023/02/20230217_184517.jpg
END:VEVENT
BEGIN:VEVENT
DTSTART;TZID=America/Los_Angeles:20230310T083000
DTEND;TZID=America/Los_Angeles:20230319T140000
DTSTAMP:20260423T075116
CREATED:20230221T182618Z
LAST-MODIFIED:20230221T182618Z
UID:20890-1678437000-1679234400@www.spokengarden.com
SUMMARY:The Great Grow Along 2023 Online Event
DESCRIPTION:The Great Grow Along\, year 3!! A FREE 10-day virtual festival connecting and inspiring gardeners worldwide with the influencers\, taste-makers\, and cutting edge content of today’s gardening world. \nExplore and attend 60+ exciting sessions and virtual garden tours! Register for this AMAZING event here! \nAnd we will be presenting on Flower Friday\, March 17th at Noon EST\, about Flowering Bulb Basics\, so make sure to check out our presentation\, too!
URL:https://www.spokengarden.com/event/the-great-grow-along-2023-online-event/
LOCATION:www.greatgrowalong.com
ORGANIZER;CN="Simple Spring Inc":MAILTO:info@gardenmediagroup.com
END:VEVENT
BEGIN:VEVENT
DTSTART;TZID=America/Los_Angeles:20230313T160000
DTEND;TZID=America/Los_Angeles:20230313T163000
DTSTAMP:20260423T075116
CREATED:20230221T173600Z
LAST-MODIFIED:20230221T173600Z
UID:20882-1678723200-1678725000@www.spokengarden.com
SUMMARY:Instagram Live with Author Susan Mulvihill - Vegetable Garden Expert and a Whole-Lot-More
DESCRIPTION:Join us LIVE on Instagram for this 10+ minute interview with Susan Mulvihill\, garden author\, columnist\, photographer\, Master Gardener\, speaker\, quilter\, AND author of the book Vegetable Garden Problem Solver. Hear about her new book\, why she loves gardening\, and much more! You can follow Susan on IG @susansinthegarden to also learn more about her. 😉👍😀👍 \nThis is a quick interview to showcase Susan and to promote the Authors Talk Gardening March 23rd event (4pm Pacific/6pm Central/7pm East)\, hosted jointly by National Garden Bureau and Garden Communicators International. \nYou can sign up for the March 23rd event here and make sure to stay tuned for three more author interviews on IG leading up to the main Authors Talk Gardening event!
URL:https://www.spokengarden.com/event/instagram-live-with-author-susan-mulvihill-vegetable-garden-expert-and-a-whole-lot-more/
LOCATION:Instagram
END:VEVENT
BEGIN:VEVENT
DTSTART;TZID=America/Los_Angeles:20230316T160000
DTEND;TZID=America/Los_Angeles:20230316T163000
DTSTAMP:20260423T075116
CREATED:20230221T174509Z
LAST-MODIFIED:20230221T174509Z
UID:20886-1678982400-1678984200@www.spokengarden.com
SUMMARY:Instagram Live with Author Duane Pancoast - The Geriatric Gardener
DESCRIPTION:Join us LIVE on Instagram for this 10+ minute interview with Duane Pancoast\, garden blogger AND author of the book The Geriatric Gardener. Hear about his new book\, why he gardens\, and much more! You can follow Duane on IG @theseniorgardener to also learn more about him. 😉👍😀👍 \nThis is a quick interview to showcase Duane and to promote the Authors Talk Gardening March 23rd event (4pm Pacific/6pm Central/7pm East)\, hosted jointly by National Garden Bureau and Garden Communicators International. \nYou can sign up for the March 23rd event here and make sure to stay tuned for three more author interviews on IG leading up to the main Authors Talk Gardening event!
URL:https://www.spokengarden.com/event/instagram-live-with-author-duane-pancoast-the-geriatric-gardener/
LOCATION:Instagram
END:VEVENT
BEGIN:VEVENT
DTSTART;TZID=America/Los_Angeles:20230317T090000
DTEND;TZID=America/Los_Angeles:20230317T100000
DTSTAMP:20260423T075116
CREATED:20230221T183109Z
LAST-MODIFIED:20230221T210431Z
UID:20894-1679043600-1679047200@www.spokengarden.com
SUMMARY:Speaking at The Great Grow Along: Fundamentals Session - Flowering Bulb Basics on Flower Friday
DESCRIPTION:It’s the Great Grow Along\, year 3\, and we will be presenting today\, Flower Friday\, at Noon EST\, about Flowering Bulb Basics\, so make sure to check out our presentation\, too! \nLearn about what bulbs actually are\, the 5 different kinds of bulbs\, how to plant them in your garden\, a sooooo much more! \nGet registered here and make sure to say “Hi” in the live chat during our presentation!
URL:https://www.spokengarden.com/event/speaking-at-the-great-grow-along-fundamentals-session-flowering-bulb-basics-on-flower-friday/
LOCATION:The Great Grow Along Virtual Gardening Festival
ORGANIZER;CN="Simple Spring Inc":MAILTO:info@gardenmediagroup.com
END:VEVENT
BEGIN:VEVENT
DTSTART;TZID=America/Los_Angeles:20230323T160000
DTEND;TZID=America/Los_Angeles:20230323T173000
DTSTAMP:20260423T075116
CREATED:20230221T175950Z
LAST-MODIFIED:20230221T175959Z
UID:20888-1679587200-1679592600@www.spokengarden.com
SUMMARY:Author's Talk Gardening Event by National Garden Bureau and Garden Communicators International
DESCRIPTION:Meet the authors of 4 amazing and worthwhile books at the Authors Talk Gardening March 23rd event (4pm Pacific/6pm Central/7pm East)\, hosted jointly by National Garden Bureau and Garden Communicators International. \nYou can sign up for the March 23rd event here and check out each authors interview by us on IG that lead up to the main Authors Talk Gardening event!
URL:https://www.spokengarden.com/event/authors-talk-gardening-event-by-national-garden-bureau-and-garden-communicators-international/
LOCATION:Instagram
END:VEVENT
BEGIN:VEVENT
DTSTART;TZID=America/Los_Angeles:20230328T090000
DTEND;TZID=America/Los_Angeles:20230328T100000
DTSTAMP:20260423T075116
CREATED:20230328T160027Z
LAST-MODIFIED:20230424T235719Z
UID:20931-1679994000-1679997600@www.spokengarden.com
SUMMARY:Instagram LIVE with Garden Product Inventor SmartPots  – Get to Know SmartPots for Your Garden!
DESCRIPTION:Join us LIVE on IG to meet Eric Olsen\, the Business Development Manager for SmartPots. Tune in to find out what SmartPots are and their backstory\, what plants to grow in them\, and how to generally use them around your garden! \nYou can find out more about Eric and SmartPots on IG @eric.smartpots. “See” you at 9am\, Pacific! 😉😀
URL:https://www.spokengarden.com/event/instagram-live-with-garden-product-inventor-smartpots-get-to-know-smartpots-for-your-garden/
LOCATION:Instagram
ATTACH;FMTTYPE=image/jpeg:https://www.spokengarden.com/wp-content/uploads/2023/03/Eric-Olsen-from-Smartpots.jpg
END:VEVENT
END:VCALENDAR