BEGIN:VCALENDAR
VERSION:2.0
PRODID:-//Spoken Garden - ECPv6.15.20//NONSGML v1.0//EN
CALSCALE:GREGORIAN
METHOD:PUBLISH
X-WR-CALNAME:Spoken Garden
X-ORIGINAL-URL:https://www.spokengarden.com
X-WR-CALDESC:Events for Spoken Garden
REFRESH-INTERVAL;VALUE=DURATION:PT1H
X-Robots-Tag:noindex
X-PUBLISHED-TTL:PT1H
BEGIN:VTIMEZONE
TZID:America/Los_Angeles
BEGIN:DAYLIGHT
TZOFFSETFROM:-0800
TZOFFSETTO:-0700
TZNAME:PDT
DTSTART:20220313T100000
END:DAYLIGHT
BEGIN:STANDARD
TZOFFSETFROM:-0700
TZOFFSETTO:-0800
TZNAME:PST
DTSTART:20221106T090000
END:STANDARD
BEGIN:DAYLIGHT
TZOFFSETFROM:-0800
TZOFFSETTO:-0700
TZNAME:PDT
DTSTART:20230312T100000
END:DAYLIGHT
BEGIN:STANDARD
TZOFFSETFROM:-0700
TZOFFSETTO:-0800
TZNAME:PST
DTSTART:20231105T090000
END:STANDARD
BEGIN:DAYLIGHT
TZOFFSETFROM:-0800
TZOFFSETTO:-0700
TZNAME:PDT
DTSTART:20240310T100000
END:DAYLIGHT
BEGIN:STANDARD
TZOFFSETFROM:-0700
TZOFFSETTO:-0800
TZNAME:PST
DTSTART:20241103T090000
END:STANDARD
END:VTIMEZONE
BEGIN:VEVENT
DTSTART;TZID=America/Los_Angeles:20230219T151500
DTEND;TZID=America/Los_Angeles:20230219T161500
DTSTAMP:20260423T092308
CREATED:20221110T202425Z
LAST-MODIFIED:20230221T165738Z
UID:19200-1676819700-1676823300@www.spokengarden.com
SUMMARY:Speaking at NWF&GF: Be the Boss of Your Bareroots and Bulbs: Learn Planting Tips and Techniques
DESCRIPTION:Don’t let bareroot plants or bulbs intimidate you this spring. Join us at the Northwest Flower and Garden Festival in Seattle\, WA on Sunday\, the 19th of February at 3:15pm. Come hear us speak on the DIY Stage about how to confidently handle and plant bareroot perennials like Itoh peonies\, coneflowers\, and more. You’ll also learn bulb planting techniques and ideas to level up your bulb game with “Lasagna” layered bulb containers for both spring and summer flowering bulbs. Take away planting skills\, like bulb planting depth\, handling\, and tools\, to help your plants thrive this spring and summer. \nTicket information is here!
URL:https://www.spokengarden.com/event/speaking-at-nwfgf-be-the-boss-of-your-bareroots-and-bulbs-learn-planting-tips-and-techniques/
LOCATION:NWF&GF\, 705 Pike Street\, Seattle\, WA\, United States
ATTACH;FMTTYPE=image/png:https://www.spokengarden.com/wp-content/uploads/2022/11/Screenshot-NWFGS.png
ORGANIZER;CN="Marketplace Events":MAILTO:michelled@mpeshows.com
END:VEVENT
BEGIN:VEVENT
DTSTART;TZID=America/Los_Angeles:20230221T110000
DTEND;TZID=America/Los_Angeles:20230221T120000
DTSTAMP:20260423T092308
CREATED:20230221T165616Z
LAST-MODIFIED:20230425T000314Z
UID:20872-1676977200-1676980800@www.spokengarden.com
SUMMARY:Instagram LIVE with Kathy Jentz - New Book: "Groundcover Revolution"
DESCRIPTION:Join us LIVE on IG to hear all about Kathy’s new book\, “Groundcover Revolution”\, and hear her insights on how she likes to garden\, groundcover mistakes to avoid\, and how to get started using groundcovers around your garden! \nYou can find Kathy on IG @WDCGardener and on Twitter @WDCGardener. “See” you at 11am\, Pacific! 😉😀
URL:https://www.spokengarden.com/event/instagram-live-with-kathy-jentz-new-book-groundcover-revolution/
LOCATION:Instagram
ATTACH;FMTTYPE=image/jpeg:https://www.spokengarden.com/wp-content/uploads/2023/02/For-website-EVENTS-page-2.jpg
END:VEVENT
BEGIN:VEVENT
DTSTART;TZID=America/Los_Angeles:20230223T160000
DTEND;TZID=America/Los_Angeles:20230223T163000
DTSTAMP:20260423T092308
CREATED:20230221T171041Z
LAST-MODIFIED:20230221T171430Z
UID:20876-1677168000-1677169800@www.spokengarden.com
SUMMARY:Instagram Live with Author Lisa Steinkopf - The Houseplant Guru
DESCRIPTION:Join us LIVE on Instagram for this 10+ minute interview with Lisa Steinkopf\, The Houseplant Guru\, to hear about her new book\, why she loves houseplants\, and much more! You can follow Lisa @thehouseplantguru on IG to also learn more about her. 😉👍😀👍 \nThis is a quick interview to showcase Lisa and to promote the Authors Talk Gardening March 23rd event (4pm Pacific/6pm Central/7pm East)\, hosted jointly by National Garden Bureau and Garden Communicators International. \nYou can sign up for the March 23rd event here and make sure to stay tuned for three more author interviews on IG leading up to the main Authors Talk Gardening event!
URL:https://www.spokengarden.com/event/ig-live-with-author-lisa-steinkopf-the-houseplant-guru/
END:VEVENT
END:VCALENDAR